Workbook

Sheet Tableau de bord
B2: TABLEAU DE BORD RH
B3: =Paramètres!$C$5
B4: ="Période du "&DAY(Paramètres!$C$6)&"/"&MONTH(Paramètres!$C$6)&"/"&YEAR(Paramètres!$C$6)&" au "&DAY(Paramètres!$C$7)&"/"&MONTH(Paramètres!$C$7)&"/"&YEAR(Paramètres!$C$7)
B6: Effectif à la fin | E6: Équivalents temps plein
B7: =SUM(Salariés!$P$6:$P$25) | E7: =SUMPRODUCT(Salariés!$H$6:$H$25,Salariés!$P$6:$P$25)
B9: Entrées / sorties | E9: Taux de turnover
B10: =COUNTIFS(Salariés!$I$6:$I$25,">="&Paramètres!$C$6,Salariés!$I$6:$I$25,"<="&Paramètres!$C$7)&" / "&COUNTIFS(Salariés!$J$6:$J$25,">="&Paramètres!$C$6,Salariés!$J$6:$J$25,"<="&Paramètres!$C$7) | E10: =IF(SUM(Salariés!$O$6:$O$25)=0,0,((COUNTIFS(Salariés!$I$6:$I$25,">="&Paramètres!$C$6,Salariés!$I$6:$I$25,"<="&Paramètres!$C$7))+(COUNTIFS(Salariés!$J$6:$J$25,">="&Paramètres!$C$6,Salariés!$J$6:$J$25,"<="&Paramètres!$C$7)))/2/SUM(Salariés!$O$6:$O$25))
B12: Taux d'absentéisme | E12: Ancienneté moyenne (ans)
B13: =IF(SUM(Salariés!$R$6:$R$25)=0,0,SUM(Salariés!$M$6:$M$25)/SUM(Salariés!$R$6:$R$25)) | E13: =IF(SUM(Salariés!$P$6:$P$25)=0,0,AVERAGE(Salariés!$T$6:$T$25))
B15: Masse salariale brute | E15: Heures de formation
B16: =SUM(Salariés!$S$6:$S$25) | E16: =SUM(Salariés!$N$6:$N$25)
B19: LES INDICATEURS ET LEUR FORMULE
B20: Indicateur | C20: Valeur | E20: Comment il se calcule
B21: Effectif au début de la période | C21: =SUM(Salariés!$O$6:$O$25) | E21: Salariés présents au premier jour de la période.
B22: Effectif à la fin de la période | C22: =SUM(Salariés!$P$6:$P$25) | E22: Salariés présents à la date d'arrêté.
B23: Effectif moyen | C23: =(SUM(Salariés!$O$6:$O$25)+SUM(Salariés!$P$6:$P$25))/2 | E23: (Effectif début + effectif fin) ÷ 2.
B24: Entrées | C24: =COUNTIFS(Salariés!$I$6:$I$25,">="&Paramètres!$C$6,Salariés!$I$6:$I$25,"<="&Paramètres!$C$7) | E24: Embauches dont la date d'entrée tombe dans la période.
B25: Sorties | C25: =COUNTIFS(Salariés!$J$6:$J$25,">="&Paramètres!$C$6,Salariés!$J$6:$J$25,"<="&Paramètres!$C$7) | E25: Départs dont la date de sortie tombe dans la période.
B26: Taux de turnover | C26: =IF(SUM(Salariés!$O$6:$O$25)=0,0,((COUNTIFS(Salariés!$I$6:$I$25,">="&Paramètres!$C$6,Salariés!$I$6:$I$25,"<="&Paramètres!$C$7))+(COUNTIFS(Salariés!$J$6:$J$25,">="&Paramètres!$C$6,Salariés!$J$6:$J$25,"<="&Paramètres!$C$7)))/2/SUM(Salariés!$O$6:$O$25)) | E26: ((Entrées + sorties) ÷ 2) ÷ effectif au début.
B27: Taux de sortie | C27: =IF((SUM(Salariés!$O$6:$O$25)+SUM(Salariés!$P$6:$P$25))=0,0,COUNTIFS(Salariés!$J$6:$J$25,">="&Paramètres!$C$6,Salariés!$J$6:$J$25,"<="&Paramètres!$C$7)/((SUM(Salariés!$O$6:$O$25)+SUM(Salariés!$P$6:$P$25))/2)) | E27: Sorties ÷ effectif moyen.
B28: Taux d'absentéisme | C28: =IF(SUM(Salariés!$R$6:$R$25)=0,0,SUM(Salariés!$M$6:$M$25)/SUM(Salariés!$R$6:$R$25)) | E28: Jours d'absence ÷ jours théoriques (temps de travail et présence pris en compte).
B29: Ancienneté moyenne (ans) | C29: =IF(SUM(Salariés!$P$6:$P$25)=0,0,AVERAGE(Salariés!$T$6:$T$25)) | E29: Moyenne des anciennetés des présents à la date d'arrêté.
B30: Âge moyen (ans) | C30: =IF(SUM(Salariés!$P$6:$P$25)=0,0,AVERAGE(Salariés!$U$6:$U$25)) | E30: Moyenne des âges des présents à la date d'arrêté.
B31: Part des femmes | C31: =IF(SUM(Salariés!$P$6:$P$25)=0,0,COUNTIFS(Salariés!$C$6:$C$25,"F",Salariés!$P$6:$P$25,1)/SUM(Salariés!$P$6:$P$25)) | E31: Femmes présentes ÷ effectif à la fin.
B32: Part des CDI | C32: =IF(SUM(Salariés!$P$6:$P$25)=0,0,COUNTIFS(Salariés!$G$6:$G$25,"CDI",Salariés!$P$6:$P$25,1)/SUM(Salariés!$P$6:$P$25)) | E32: Salariés en CDI ÷ effectif à la fin.
B33: Masse salariale brute | C33: =SUM(Salariés!$S$6:$S$25) | E33: Brut mensuel × 12 × jours de présence ÷ 365, additionné.
B34: Salaire brut moyen (ETP) | C34: =IF(SUMPRODUCT(Salariés!$H$6:$H$25,Salariés!$P$6:$P$25)=0,0,SUMPRODUCT(Salariés!$L$6:$L$25,Salariés!$P$6:$P$25)/SUMPRODUCT(Salariés!$H$6:$H$25,Salariés!$P$6:$P$25)) | E34: Brut mensuel des présents ÷ équivalents temps plein.
B35: Heures de formation par salarié | C35: =IF(COUNTIF(Salariés!$Q$6:$Q$25,">0")=0,0,SUM(Salariés!$N$6:$N$25)/COUNTIF(Salariés!$Q$6:$Q$25,">0")) | E35: Heures de formation ÷ salariés présents dans la période.
B36: Part des salariés formés | C36: =IF(COUNTIF(Salariés!$Q$6:$Q$25,">0")=0,0,COUNTIFS(Salariés!$N$6:$N$25,">0",Salariés!$Q$6:$Q$25,">0")/COUNTIF(Salariés!$Q$6:$Q$25,">0")) | E36: Salariés ayant suivi au moins une heure de formation ÷ salariés présents.
B38: RÉPARTITION PAR SERVICE (EFFECTIF À LA FIN)
B39: Service | C39: Effectif | E39: Masse salariale de la période | F39: Poids
B40: =Paramètres!$E$5 | C40: =COUNTIFS(Salariés!$E$6:$E$25,B40,Salariés!$P$6:$P$25,1) | E40: =SUMIFS(Salariés!$S$6:$S$25,Salariés!$E$6:$E$25,B40) | F40: =IF(SUM(Salariés!$S$6:$S$25)=0,0,E40/SUM(Salariés!$S$6:$S$25)) | G40: =REPT("|",ROUND(F40*40,0))
B41: =Paramètres!$E$6 | C41: =COUNTIFS(Salariés!$E$6:$E$25,B41,Salariés!$P$6:$P$25,1) | E41: =SUMIFS(Salariés!$S$6:$S$25,Salariés!$E$6:$E$25,B41) | F41: =IF(SUM(Salariés!$S$6:$S$25)=0,0,E41/SUM(Salariés!$S$6:$S$25)) | G41: =REPT("|",ROUND(F41*40,0))
B42: =Paramètres!$E$7 | C42: =COUNTIFS(Salariés!$E$6:$E$25,B42,Salariés!$P$6:$P$25,1) | E42: =SUMIFS(Salariés!$S$6:$S$25,Salariés!$E$6:$E$25,B42) | F42: =IF(SUM(Salariés!$S$6:$S$25)=0,0,E42/SUM(Salariés!$S$6:$S$25)) | G42: =REPT("|",ROUND(F42*40,0))
B43: =Paramètres!$E$8 | C43: =COUNTIFS(Salariés!$E$6:$E$25,B43,Salariés!$P$6:$P$25,1) | E43: =SUMIFS(Salariés!$S$6:$S$25,Salariés!$E$6:$E$25,B43) | F43: =IF(SUM(Salariés!$S$6:$S$25)=0,0,E43/SUM(Salariés!$S$6:$S$25)) | G43: =REPT("|",ROUND(F43*40,0))
B45: Données issues de la feuille « Salariés ». Modèle gratuit Digitiz · digitiz.fr/modeles/tableau-de-bord-rh/

Sheet Salariés
B2: REGISTRE DES SALARIÉS
B3: Saisie en vert ; les colonnes grises se calculent. Une ligne par contrat, sorties comprises.
B5: Nom | C5: Sexe | D5: Naissance | E5: Service | F5: Poste | G5: Contrat | H5: Temps (%) | I5: Entrée | J5: Sortie | K5: Motif de sortie | L5: Brut mensuel | M5: Jours d'absence | N5: Heures de formation | O5: Présent début | P5: Présent fin | Q5: Jours de présence | R5: Jours théoriques | S5: Masse salariale | T5: Ancienneté (ans) | U5: Âge
B6: Claire Moreau | C6: F | D6: 28592 | E6: Direction | F6: Gérante | G6: CDI | H6: 1 | I6: 40969 | L6: 5200 | M6: 0 | N6: 7 | O6: =IF(OR(B6="",I6=""),"",IF(AND(I6<=Paramètres!$C$6,OR(J6="",J6>=Paramètres!$C$6)),1,0)) | P6: =IF(OR(B6="",I6=""),"",IF(AND(I6<=Paramètres!$C$7,OR(J6="",J6>Paramètres!$C$7)),1,0)) | Q6: =IF(OR(B6="",I6=""),"",MAX(0,IF(J6="",Paramètres!$C$7,MIN(J6,Paramètres!$C$7))-MAX(I6,Paramètres!$C$6)+1)) | R6: =IF(Q6="","",Paramètres!$C$8*H6*Q6/365) | S6: =IF(Q6="","",L6*12*Q6/365) | T6: =IF(P6=1,(Paramètres!$C$7-I6)/365.25,"") | U6: =IF(AND(P6=1,D6<>""),DATEDIF(D6,Paramètres!$C$7,"y"),"")
B7: Julien Fabre | C7: H | D7: 31293 | E7: Commercial | F7: Responsable commercial | G7: CDI | H7: 1 | I7: 42373 | L7: 3600 | M7: 4 | N7: 14 | O7: =IF(OR(B7="",I7=""),"",IF(AND(I7<=Paramètres!$C$6,OR(J7="",J7>=Paramètres!$C$6)),1,0)) | P7: =IF(OR(B7="",I7=""),"",IF(AND(I7<=Paramètres!$C$7,OR(J7="",J7>Paramètres!$C$7)),1,0)) | Q7: =IF(OR(B7="",I7=""),"",MAX(0,IF(J7="",Paramètres!$C$7,MIN(J7,Paramètres!$C$7))-MAX(I7,Paramètres!$C$6)+1)) | R7: =IF(Q7="","",Paramètres!$C$8*H7*Q7/365) | S7: =IF(Q7="","",L7*12*Q7/365) | T7: =IF(P7=1,(Paramètres!$C$7-I7)/365.25,"") | U7: =IF(AND(P7=1,D7<>""),DATEDIF(D7,Paramètres!$C$7,"y"),"")
B8: Nadia Haddad | C8: F | D8: 33654 | E8: Commercial | F8: Chargée d'affaires | G8: CDI | H8: 1 | I8: 43710 | L8: 2800 | M8: 12 | N8: 0 | O8: =IF(OR(B8="",I8=""),"",IF(AND(I8<=Paramètres!$C$6,OR(J8="",J8>=Paramètres!$C$6)),1,0)) | P8: =IF(OR(B8="",I8=""),"",IF(AND(I8<=Paramètres!$C$7,OR(J8="",J8>Paramètres!$C$7)),1,0)) | Q8: =IF(OR(B8="",I8=""),"",MAX(0,IF(J8="",Paramètres!$C$7,MIN(J8,Paramètres!$C$7))-MAX(I8,Paramètres!$C$6)+1)) | R8: =IF(Q8="","",Paramètres!$C$8*H8*Q8/365) | S8: =IF(Q8="","",L8*12*Q8/365) | T8: =IF(P8=1,(Paramètres!$C$7-I8)/365.25,"") | U8: =IF(AND(P8=1,D8<>""),DATEDIF(D8,Paramètres!$C$7,"y"),"")
B9: Thomas Leroy | C9: H | D9: 32477 | E9: Production | F9: Chef de projet | G9: CDI | H9: 1 | I9: 43045 | L9: 3400 | M9: 2 | N9: 21 | O9: =IF(OR(B9="",I9=""),"",IF(AND(I9<=Paramètres!$C$6,OR(J9="",J9>=Paramètres!$C$6)),1,0)) | P9: =IF(OR(B9="",I9=""),"",IF(AND(I9<=Paramètres!$C$7,OR(J9="",J9>Paramètres!$C$7)),1,0)) | Q9: =IF(OR(B9="",I9=""),"",MAX(0,IF(J9="",Paramètres!$C$7,MIN(J9,Paramètres!$C$7))-MAX(I9,Paramètres!$C$6)+1)) | R9: =IF(Q9="","",Paramètres!$C$8*H9*Q9/365) | S9: =IF(Q9="","",L9*12*Q9/365) | T9: =IF(P9=1,(Paramètres!$C$7-I9)/365.25,"") | U9: =IF(AND(P9=1,D9<>""),DATEDIF(D9,Paramètres!$C$7,"y"),"")
B10: Julie Martin | C10: F | D10: 33039 | E10: Production | F10: Graphiste | G10: CDI | H10: 0.8 | I10: 43528 | L10: 2300 | M10: 6 | N10: 0 | O10: =IF(OR(B10="",I10=""),"",IF(AND(I10<=Paramètres!$C$6,OR(J10="",J10>=Paramètres!$C$6)),1,0)) | P10: =IF(OR(B10="",I10=""),"",IF(AND(I10<=Paramètres!$C$7,OR(J10="",J10>Paramètres!$C$7)),1,0)) | Q10: =IF(OR(B10="",I10=""),"",MAX(0,IF(J10="",Paramètres!$C$7,MIN(J10,Paramètres!$C$7))-MAX(I10,Paramètres!$C$6)+1)) | R10: =IF(Q10="","",Paramètres!$C$8*H10*Q10/365) | S10: =IF(Q10="","",L10*12*Q10/365) | T10: =IF(P10=1,(Paramètres!$C$7-I10)/365.25,"") | U10: =IF(AND(P10=1,D10<>""),DATEDIF(D10,Paramètres!$C$7,"y"),"")
B11: Karim Benali | C11: H | D11: 34342 | E11: Production | F11: Développeur | G11: CDI | H11: 1 | I11: 44440 | L11: 3100 | M11: 3 | N11: 35 | O11: =IF(OR(B11="",I11=""),"",IF(AND(I11<=Paramètres!$C$6,OR(J11="",J11>=Paramètres!$C$6)),1,0)) | P11: =IF(OR(B11="",I11=""),"",IF(AND(I11<=Paramètres!$C$7,OR(J11="",J11>Paramètres!$C$7)),1,0)) | Q11: =IF(OR(B11="",I11=""),"",MAX(0,IF(J11="",Paramètres!$C$7,MIN(J11,Paramètres!$C$7))-MAX(I11,Paramètres!$C$6)+1)) | R11: =IF(Q11="","",Paramètres!$C$8*H11*Q11/365) | S11: =IF(Q11="","",L11*12*Q11/365) | T11: =IF(P11=1,(Paramètres!$C$7-I11)/365.25,"") | U11: =IF(AND(P11=1,D11<>""),DATEDIF(D11,Paramètres!$C$7,"y"),"")
B12: Sophie Durand | C12: F | D12: 30550 | E12: Production | F12: Développeuse | G12: CDI | H12: 1 | I12: 43115 | L12: 3300 | M12: 0 | N12: 14 | O12: =IF(OR(B12="",I12=""),"",IF(AND(I12<=Paramètres!$C$6,OR(J12="",J12>=Paramètres!$C$6)),1,0)) | P12: =IF(OR(B12="",I12=""),"",IF(AND(I12<=Paramètres!$C$7,OR(J12="",J12>Paramètres!$C$7)),1,0)) | Q12: =IF(OR(B12="",I12=""),"",MAX(0,IF(J12="",Paramètres!$C$7,MIN(J12,Paramètres!$C$7))-MAX(I12,Paramètres!$C$6)+1)) | R12: =IF(Q12="","",Paramètres!$C$8*H12*Q12/365) | S12: =IF(Q12="","",L12*12*Q12/365) | T12: =IF(P12=1,(Paramètres!$C$7-I12)/365.25,"") | U12: =IF(AND(P12=1,D12<>""),DATEDIF(D12,Paramètres!$C$7,"y"),"")
B13: Emma Roux | C13: F | D13: 35187 | E13: Administratif | F13: Assistante de gestion | G13: CDI | H13: 1 | I13: 43983 | L13: 2200 | M13: 9 | N13: 7 | O13: =IF(OR(B13="",I13=""),"",IF(AND(I13<=Paramètres!$C$6,OR(J13="",J13>=Paramètres!$C$6)),1,0)) | P13: =IF(OR(B13="",I13=""),"",IF(AND(I13<=Paramètres!$C$7,OR(J13="",J13>Paramètres!$C$7)),1,0)) | Q13: =IF(OR(B13="",I13=""),"",MAX(0,IF(J13="",Paramètres!$C$7,MIN(J13,Paramètres!$C$7))-MAX(I13,Paramètres!$C$6)+1)) | R13: =IF(Q13="","",Paramètres!$C$8*H13*Q13/365) | S13: =IF(Q13="","",L13*12*Q13/365) | T13: =IF(P13=1,(Paramètres!$C$7-I13)/365.25,"") | U13: =IF(AND(P13=1,D13<>""),DATEDIF(D13,Paramètres!$C$7,"y"),"")
B14: Paul Girard | C14: H | D14: 36236 | E14: Production | F14: Intégrateur web | G14: CDD | H14: 1 | I14: 45931 | J14: 46112 | K14: Fin de CDD | L14: 2100 | M14: 0 | N14: 0 | O14: =IF(OR(B14="",I14=""),"",IF(AND(I14<=Paramètres!$C$6,OR(J14="",J14>=Paramètres!$C$6)),1,0)) | P14: =IF(OR(B14="",I14=""),"",IF(AND(I14<=Paramètres!$C$7,OR(J14="",J14>Paramètres!$C$7)),1,0)) | Q14: =IF(OR(B14="",I14=""),"",MAX(0,IF(J14="",Paramètres!$C$7,MIN(J14,Paramètres!$C$7))-MAX(I14,Paramètres!$C$6)+1)) | R14: =IF(Q14="","",Paramètres!$C$8*H14*Q14/365) | S14: =IF(Q14="","",L14*12*Q14/365) | T14: =IF(P14=1,(Paramètres!$C$7-I14)/365.25,"") | U14: =IF(AND(P14=1,D14<>""),DATEDIF(D14,Paramètres!$C$7,"y"),"")
B15: Inès Blanc | C15: F | D15: 33577 | E15: Commercial | F15: Commerciale | G15: CDI | H15: 1 | I15: 44655 | J15: 46203 | K15: Démission | L15: 2700 | M15: 15 | N15: 0 | O15: =IF(OR(B15="",I15=""),"",IF(AND(I15<=Paramètres!$C$6,OR(J15="",J15>=Paramètres!$C$6)),1,0)) | P15: =IF(OR(B15="",I15=""),"",IF(AND(I15<=Paramètres!$C$7,OR(J15="",J15>Paramètres!$C$7)),1,0)) | Q15: =IF(OR(B15="",I15=""),"",MAX(0,IF(J15="",Paramètres!$C$7,MIN(J15,Paramètres!$C$7))-MAX(I15,Paramètres!$C$6)+1)) | R15: =IF(Q15="","",Paramètres!$C$8*H15*Q15/365) | S15: =IF(Q15="","",L15*12*Q15/365) | T15: =IF(P15=1,(Paramètres!$C$7-I15)/365.25,"") | U15: =IF(AND(P15=1,D15<>""),DATEDIF(D15,Paramètres!$C$7,"y"),"")
B16: Lucas Petit | C16: H | D16: 35639 | E16: Commercial | F16: Commercial | G16: CDI | H16: 1 | I16: 46083 | L16: 2500 | M16: 2 | N16: 21 | O16: =IF(OR(B16="",I16=""),"",IF(AND(I16<=Paramètres!$C$6,OR(J16="",J16>=Paramètres!$C$6)),1,0)) | P16: =IF(OR(B16="",I16=""),"",IF(AND(I16<=Paramètres!$C$7,OR(J16="",J16>Paramètres!$C$7)),1,0)) | Q16: =IF(OR(B16="",I16=""),"",MAX(0,IF(J16="",Paramètres!$C$7,MIN(J16,Paramètres!$C$7))-MAX(I16,Paramètres!$C$6)+1)) | R16: =IF(Q16="","",Paramètres!$C$8*H16*Q16/365) | S16: =IF(Q16="","",L16*12*Q16/365) | T16: =IF(P16=1,(Paramètres!$C$7-I16)/365.25,"") | U16: =IF(AND(P16=1,D16<>""),DATEDIF(D16,Paramètres!$C$7,"y"),"")
B17: Léa Fontaine | C17: F | D17: 38271 | E17: Production | F17: Alternante développeuse | G17: Alternance | H17: 1 | I17: 45901 | L17: 1100 | M17: 0 | N17: 0 | O17: =IF(OR(B17="",I17=""),"",IF(AND(I17<=Paramètres!$C$6,OR(J17="",J17>=Paramètres!$C$6)),1,0)) | P17: =IF(OR(B17="",I17=""),"",IF(AND(I17<=Paramètres!$C$7,OR(J17="",J17>Paramètres!$C$7)),1,0)) | Q17: =IF(OR(B17="",I17=""),"",MAX(0,IF(J17="",Paramètres!$C$7,MIN(J17,Paramètres!$C$7))-MAX(I17,Paramètres!$C$6)+1)) | R17: =IF(Q17="","",Paramètres!$C$8*H17*Q17/365) | S17: =IF(Q17="","",L17*12*Q17/365) | T17: =IF(P17=1,(Paramètres!$C$7-I17)/365.25,"") | U17: =IF(AND(P17=1,D17<>""),DATEDIF(D17,Paramètres!$C$7,"y"),"")
B18: Hugo Lambert | C18: H | D18: 34744 | E18: Production | F18: Chef de projet | G18: CDI | H18: 1 | I18: 46146 | J18: 46199 | K18: Fin de période d'essai | L18: 3200 | M18: 0 | N18: 0 | O18: =IF(OR(B18="",I18=""),"",IF(AND(I18<=Paramètres!$C$6,OR(J18="",J18>=Paramètres!$C$6)),1,0)) | P18: =IF(OR(B18="",I18=""),"",IF(AND(I18<=Paramètres!$C$7,OR(J18="",J18>Paramètres!$C$7)),1,0)) | Q18: =IF(OR(B18="",I18=""),"",MAX(0,IF(J18="",Paramètres!$C$7,MIN(J18,Paramètres!$C$7))-MAX(I18,Paramètres!$C$6)+1)) | R18: =IF(Q18="","",Paramètres!$C$8*H18*Q18/365) | S18: =IF(Q18="","",L18*12*Q18/365) | T18: =IF(P18=1,(Paramètres!$C$7-I18)/365.25,"") | U18: =IF(AND(P18=1,D18<>""),DATEDIF(D18,Paramètres!$C$7,"y"),"")
B19: Chloé Mercier | C19: F | D19: 34221 | E19: Administratif | F19: Chargée RH | G19: CDI | H19: 0.6 | I19: 46204 | L19: 1700 | M19: 0 | N19: 7 | O19: =IF(OR(B19="",I19=""),"",IF(AND(I19<=Paramètres!$C$6,OR(J19="",J19>=Paramètres!$C$6)),1,0)) | P19: =IF(OR(B19="",I19=""),"",IF(AND(I19<=Paramètres!$C$7,OR(J19="",J19>Paramètres!$C$7)),1,0)) | Q19: =IF(OR(B19="",I19=""),"",MAX(0,IF(J19="",Paramètres!$C$7,MIN(J19,Paramètres!$C$7))-MAX(I19,Paramètres!$C$6)+1)) | R19: =IF(Q19="","",Paramètres!$C$8*H19*Q19/365) | S19: =IF(Q19="","",L19*12*Q19/365) | T19: =IF(P19=1,(Paramètres!$C$7-I19)/365.25,"") | U19: =IF(AND(P19=1,D19<>""),DATEDIF(D19,Paramètres!$C$7,"y"),"")
O20: =IF(OR(B20="",I20=""),"",IF(AND(I20<=Paramètres!$C$6,OR(J20="",J20>=Paramètres!$C$6)),1,0)) | P20: =IF(OR(B20="",I20=""),"",IF(AND(I20<=Paramètres!$C$7,OR(J20="",J20>Paramètres!$C$7)),1,0)) | Q20: =IF(OR(B20="",I20=""),"",MAX(0,IF(J20="",Paramètres!$C$7,MIN(J20,Paramètres!$C$7))-MAX(I20,Paramètres!$C$6)+1)) | R20: =IF(Q20="","",Paramètres!$C$8*H20*Q20/365) | S20: =IF(Q20="","",L20*12*Q20/365) | T20: =IF(P20=1,(Paramètres!$C$7-I20)/365.25,"") | U20: =IF(AND(P20=1,D20<>""),DATEDIF(D20,Paramètres!$C$7,"y"),"")
O21: =IF(OR(B21="",I21=""),"",IF(AND(I21<=Paramètres!$C$6,OR(J21="",J21>=Paramètres!$C$6)),1,0)) | P21: =IF(OR(B21="",I21=""),"",IF(AND(I21<=Paramètres!$C$7,OR(J21="",J21>Paramètres!$C$7)),1,0)) | Q21: =IF(OR(B21="",I21=""),"",MAX(0,IF(J21="",Paramètres!$C$7,MIN(J21,Paramètres!$C$7))-MAX(I21,Paramètres!$C$6)+1)) | R21: =IF(Q21="","",Paramètres!$C$8*H21*Q21/365) | S21: =IF(Q21="","",L21*12*Q21/365) | T21: =IF(P21=1,(Paramètres!$C$7-I21)/365.25,"") | U21: =IF(AND(P21=1,D21<>""),DATEDIF(D21,Paramètres!$C$7,"y"),"")
O22: =IF(OR(B22="",I22=""),"",IF(AND(I22<=Paramètres!$C$6,OR(J22="",J22>=Paramètres!$C$6)),1,0)) | P22: =IF(OR(B22="",I22=""),"",IF(AND(I22<=Paramètres!$C$7,OR(J22="",J22>Paramètres!$C$7)),1,0)) | Q22: =IF(OR(B22="",I22=""),"",MAX(0,IF(J22="",Paramètres!$C$7,MIN(J22,Paramètres!$C$7))-MAX(I22,Paramètres!$C$6)+1)) | R22: =IF(Q22="","",Paramètres!$C$8*H22*Q22/365) | S22: =IF(Q22="","",L22*12*Q22/365) | T22: =IF(P22=1,(Paramètres!$C$7-I22)/365.25,"") | U22: =IF(AND(P22=1,D22<>""),DATEDIF(D22,Paramètres!$C$7,"y"),"")
O23: =IF(OR(B23="",I23=""),"",IF(AND(I23<=Paramètres!$C$6,OR(J23="",J23>=Paramètres!$C$6)),1,0)) | P23: =IF(OR(B23="",I23=""),"",IF(AND(I23<=Paramètres!$C$7,OR(J23="",J23>Paramètres!$C$7)),1,0)) | Q23: =IF(OR(B23="",I23=""),"",MAX(0,IF(J23="",Paramètres!$C$7,MIN(J23,Paramètres!$C$7))-MAX(I23,Paramètres!$C$6)+1)) | R23: =IF(Q23="","",Paramètres!$C$8*H23*Q23/365) | S23: =IF(Q23="","",L23*12*Q23/365) | T23: =IF(P23=1,(Paramètres!$C$7-I23)/365.25,"") | U23: =IF(AND(P23=1,D23<>""),DATEDIF(D23,Paramètres!$C$7,"y"),"")
O24: =IF(OR(B24="",I24=""),"",IF(AND(I24<=Paramètres!$C$6,OR(J24="",J24>=Paramètres!$C$6)),1,0)) | P24: =IF(OR(B24="",I24=""),"",IF(AND(I24<=Paramètres!$C$7,OR(J24="",J24>Paramètres!$C$7)),1,0)) | Q24: =IF(OR(B24="",I24=""),"",MAX(0,IF(J24="",Paramètres!$C$7,MIN(J24,Paramètres!$C$7))-MAX(I24,Paramètres!$C$6)+1)) | R24: =IF(Q24="","",Paramètres!$C$8*H24*Q24/365) | S24: =IF(Q24="","",L24*12*Q24/365) | T24: =IF(P24=1,(Paramètres!$C$7-I24)/365.25,"") | U24: =IF(AND(P24=1,D24<>""),DATEDIF(D24,Paramètres!$C$7,"y"),"")
O25: =IF(OR(B25="",I25=""),"",IF(AND(I25<=Paramètres!$C$6,OR(J25="",J25>=Paramètres!$C$6)),1,0)) | P25: =IF(OR(B25="",I25=""),"",IF(AND(I25<=Paramètres!$C$7,OR(J25="",J25>Paramètres!$C$7)),1,0)) | Q25: =IF(OR(B25="",I25=""),"",MAX(0,IF(J25="",Paramètres!$C$7,MIN(J25,Paramètres!$C$7))-MAX(I25,Paramètres!$C$6)+1)) | R25: =IF(Q25="","",Paramètres!$C$8*H25*Q25/365) | S25: =IF(Q25="","",L25*12*Q25/365) | T25: =IF(P25=1,(Paramètres!$C$7-I25)/365.25,"") | U25: =IF(AND(P25=1,D25<>""),DATEDIF(D25,Paramètres!$C$7,"y"),"")

Sheet Paramètres
B2: Paramètres du tableau de bord
B4: Période analysée | E4: Services | F4: Contrats | G4: Motifs de sortie
B5: Entreprise | C5: Atelier Numérique, 69001 Lyon | E5: Direction | F5: CDI | G5: Démission
B6: Début de la période | C6: 46023 | E6: Commercial | F6: CDD | G6: Fin de CDD
B7: Fin de la période (date d'arrêté) | C7: 46295 | E7: Production | F7: Alternance | G7: Rupture conventionnelle
B8: Jours travaillés théoriques par an (temps plein) | C8: 227 | E8: Administratif | G8: Licenciement
B9: 2026 : 261 jours du lundi au vendredi, moins 9 jours fériés en semaine et 25 jours ouvrés de congés payés = 227. Adaptez selon vos RTT et votre convention. | G9: Retraite
G10: Fin de période d'essai
E12: Sexe
E13: F
E14: H

Sheet Mode d'emploi
B2: Mode d'emploi du tableau de bord RH
B4: 1. La période
B5: Dans « Paramètres », indiquez le début de la période analysée et la date d'arrêté. Pour un bilan annuel, du 1er janvier au 31 décembre ; pour un suivi en cours d'année, arrêtez à la fin du dernier mois écoulé.
B7: 2. Les jours théoriques
B8: Indiquez le nombre de jours travaillés théoriques d'un temps plein sur l'année. Il sert au taux d'absentéisme, proratisé selon le temps de travail et la présence de chacun.
B10: 3. Le registre
B11: Sur « Salariés », une ligne par salarié, y compris ceux qui sont partis pendant la période : sexe, naissance, service, poste, contrat, temps de travail, dates d'entrée et de sortie, brut mensuel, jours d'absence et heures de formation de la période. Les colonnes grises se calculent.
B13: 4. Le tableau de bord
B14: Les tuiles et le tableau des indicateurs se mettent à jour seuls. Chaque indicateur est accompagné de sa formule, pour pouvoir l'expliquer en comité de direction ou au CSE.
B16: 5. Les absences
B17: Comptez les jours d'absence que vous voulez suivre : en général maladie, accidents du travail et absences injustifiées, hors congés payés et formation. Gardez la même règle d'une période à l'autre pour comparer.
B19: 6. Les données personnelles
... B23: Ce modèle est proposé gratuitement par Digitiz : https://digitiz.fr/modeles/tableau-de-bord-rh/
