Workbook

Sheet Synthèse
B2: ="Suivi commercial "&Paramètres!C5 | H2: OBJECTIF ANNUEL | J2: CA SIGNÉ | L2: ATTEINTE | N2: DEVIS → VENTE
B3: =Paramètres!C4&" · objectifs et réalisé, tous commerciaux" | H3: =Objectifs!H18 | J3: =SUM(D8:D19) | L3: =IFERROR(J3/Objectifs!H18,0) | N3: =IFERROR(L20/K20,0)
B7: Mois | C7: Objectif HT | D7: CA signé HT | E7: Écart | F7: Atteinte | G7: Cumul objectif | H7: Cumul CA | I7: Contacts | J7: RDV | K7: Devis | L7: Ventes | M7: Contact → RDV | N7: Devis → vente
B8: =Paramètres!E8 | C8: =Objectifs!H6 | D8: =SUMIF(Saisie!$B$6:$B$45,B8,Saisie!$I$6:$I$45) | E8: =D8-C8 | F8: =IFERROR(D8/C8,0) | G8: =SUM(C$8:C8) | H8: =SUM(D$8:D8) | I8: =SUMIF(Saisie!$B$6:$B$45,B8,Saisie!$D$6:$D$45) | J8: =SUMIF(Saisie!$B$6:$B$45,B8,Saisie!$E$6:$E$45) | K8: =SUMIF(Saisie!$B$6:$B$45,B8,Saisie!$F$6:$F$45) | L8: =SUMIF(Saisie!$B$6:$B$45,B8,Saisie!$H$6:$H$45) | M8: =IFERROR(J8/I8,0) | N8: =IFERROR(L8/K8,0)
B9: =Paramètres!E9 | C9: =Objectifs!H7 | D9: =SUMIF(Saisie!$B$6:$B$45,B9,Saisie!$I$6:$I$45) | E9: =D9-C9 | F9: =IFERROR(D9/C9,0) | G9: =SUM(C$8:C9) | H9: =SUM(D$8:D9) | I9: =SUMIF(Saisie!$B$6:$B$45,B9,Saisie!$D$6:$D$45) | J9: =SUMIF(Saisie!$B$6:$B$45,B9,Saisie!$E$6:$E$45) | K9: =SUMIF(Saisie!$B$6:$B$45,B9,Saisie!$F$6:$F$45) | L9: =SUMIF(Saisie!$B$6:$B$45,B9,Saisie!$H$6:$H$45) | M9: =IFERROR(J9/I9,0) | N9: =IFERROR(L9/K9,0)
B10: =Paramètres!E10 | C10: =Objectifs!H8 | D10: =SUMIF(Saisie!$B$6:$B$45,B10,Saisie!$I$6:$I$45) | E10: =D10-C10 | F10: =IFERROR(D10/C10,0) | G10: =SUM(C$8:C10) | H10: =SUM(D$8:D10) | I10: =SUMIF(Saisie!$B$6:$B$45,B10,Saisie!$D$6:$D$45) | J10: =SUMIF(Saisie!$B$6:$B$45,B10,Saisie!$E$6:$E$45) | K10: =SUMIF(Saisie!$B$6:$B$45,B10,Saisie!$F$6:$F$45) | L10: =SUMIF(Saisie!$B$6:$B$45,B10,Saisie!$H$6:$H$45) | M10: =IFERROR(J10/I10,0) | N10: =IFERROR(L10/K10,0)
B11: =Paramètres!E11 | C11: =Objectifs!H9 | D11: =SUMIF(Saisie!$B$6:$B$45,B11,Saisie!$I$6:$I$45) | E11: =D11-C11 | F11: =IFERROR(D11/C11,0) | G11: =SUM(C$8:C11) | H11: =SUM(D$8:D11) | I11: =SUMIF(Saisie!$B$6:$B$45,B11,Saisie!$D$6:$D$45) | J11: =SUMIF(Saisie!$B$6:$B$45,B11,Saisie!$E$6:$E$45) | K11: =SUMIF(Saisie!$B$6:$B$45,B11,Saisie!$F$6:$F$45) | L11: =SUMIF(Saisie!$B$6:$B$45,B11,Saisie!$H$6:$H$45) | M11: =IFERROR(J11/I11,0) | N11: =IFERROR(L11/K11,0)
B12: =Paramètres!E12 | C12: =Objectifs!H10 | D12: =SUMIF(Saisie!$B$6:$B$45,B12,Saisie!$I$6:$I$45) | E12: =D12-C12 | F12: =IFERROR(D12/C12,0) | G12: =SUM(C$8:C12) | H12: =SUM(D$8:D12) | I12: =SUMIF(Saisie!$B$6:$B$45,B12,Saisie!$D$6:$D$45) | J12: =SUMIF(Saisie!$B$6:$B$45,B12,Saisie!$E$6:$E$45) | K12: =SUMIF(Saisie!$B$6:$B$45,B12,Saisie!$F$6:$F$45) | L12: =SUMIF(Saisie!$B$6:$B$45,B12,Saisie!$H$6:$H$45) | M12: =IFERROR(J12/I12,0) | N12: =IFERROR(L12/K12,0)
B13: =Paramètres!E13 | C13: =Objectifs!H11 | D13: =SUMIF(Saisie!$B$6:$B$45,B13,Saisie!$I$6:$I$45) | E13: =D13-C13 | F13: =IFERROR(D13/C13,0) | G13: =SUM(C$8:C13) | H13: =SUM(D$8:D13) | I13: =SUMIF(Saisie!$B$6:$B$45,B13,Saisie!$D$6:$D$45) | J13: =SUMIF(Saisie!$B$6:$B$45,B13,Saisie!$E$6:$E$45) | K13: =SUMIF(Saisie!$B$6:$B$45,B13,Saisie!$F$6:$F$45) | L13: =SUMIF(Saisie!$B$6:$B$45,B13,Saisie!$H$6:$H$45) | M13: =IFERROR(J13/I13,0) | N13: =IFERROR(L13/K13,0)
B14: =Paramètres!E14 | C14: =Objectifs!H12 | D14: =SUMIF(Saisie!$B$6:$B$45,B14,Saisie!$I$6:$I$45) | E14: =D14-C14 | F14: =IFERROR(D14/C14,0) | G14: =SUM(C$8:C14) | H14: =SUM(D$8:D14) | I14: =SUMIF(Saisie!$B$6:$B$45,B14,Saisie!$D$6:$D$45) | J14: =SUMIF(Saisie!$B$6:$B$45,B14,Saisie!$E$6:$E$45) | K14: =SUMIF(Saisie!$B$6:$B$45,B14,Saisie!$F$6:$F$45) | L14: =SUMIF(Saisie!$B$6:$B$45,B14,Saisie!$H$6:$H$45) | M14: =IFERROR(J14/I14,0) | N14: =IFERROR(L14/K14,0)
B15: =Paramètres!E15 | C15: =Objectifs!H13 | D15: =SUMIF(Saisie!$B$6:$B$45,B15,Saisie!$I$6:$I$45) | E15: =D15-C15 | F15: =IFERROR(D15/C15,0) | G15: =SUM(C$8:C15) | H15: =SUM(D$8:D15) | I15: =SUMIF(Saisie!$B$6:$B$45,B15,Saisie!$D$6:$D$45) | J15: =SUMIF(Saisie!$B$6:$B$45,B15,Saisie!$E$6:$E$45) | K15: =SUMIF(Saisie!$B$6:$B$45,B15,Saisie!$F$6:$F$45) | L15: =SUMIF(Saisie!$B$6:$B$45,B15,Saisie!$H$6:$H$45) | M15: =IFERROR(J15/I15,0) | N15: =IFERROR(L15/K15,0)
B16: =Paramètres!E16 | C16: =Objectifs!H14 | D16: =SUMIF(Saisie!$B$6:$B$45,B16,Saisie!$I$6:$I$45) | E16: =D16-C16 | F16: =IFERROR(D16/C16,0) | G16: =SUM(C$8:C16) | H16: =SUM(D$8:D16) | I16: =SUMIF(Saisie!$B$6:$B$45,B16,Saisie!$D$6:$D$45) | J16: =SUMIF(Saisie!$B$6:$B$45,B16,Saisie!$E$6:$E$45) | K16: =SUMIF(Saisie!$B$6:$B$45,B16,Saisie!$F$6:$F$45) | L16: =SUMIF(Saisie!$B$6:$B$45,B16,Saisie!$H$6:$H$45) | M16: =IFERROR(J16/I16,0) | N16: =IFERROR(L16/K16,0)
B17: =Paramètres!E17 | C17: =Objectifs!H15 | D17: =SUMIF(Saisie!$B$6:$B$45,B17,Saisie!$I$6:$I$45) | E17: =D17-C17 | F17: =IFERROR(D17/C17,0) | G17: =SUM(C$8:C17) | H17: =SUM(D$8:D17) | I17: =SUMIF(Saisie!$B$6:$B$45,B17,Saisie!$D$6:$D$45) | J17: =SUMIF(Saisie!$B$6:$B$45,B17,Saisie!$E$6:$E$45) | K17: =SUMIF(Saisie!$B$6:$B$45,B17,Saisie!$F$6:$F$45) | L17: =SUMIF(Saisie!$B$6:$B$45,B17,Saisie!$H$6:$H$45) | M17: =IFERROR(J17/I17,0) | N17: =IFERROR(L17/K17,0)
B18: =Paramètres!E18 | C18: =Objectifs!H16 | D18: =SUMIF(Saisie!$B$6:$B$45,B18,Saisie!$I$6:$I$45) | E18: =D18-C18 | F18: =IFERROR(D18/C18,0) | G18: =SUM(C$8:C18) | H18: =SUM(D$8:D18) | I18: =SUMIF(Saisie!$B$6:$B$45,B18,Saisie!$D$6:$D$45) | J18: =SUMIF(Saisie!$B$6:$B$45,B18,Saisie!$E$6:$E$45) | K18: =SUMIF(Saisie!$B$6:$B$45,B18,Saisie!$F$6:$F$45) | L18: =SUMIF(Saisie!$B$6:$B$45,B18,Saisie!$H$6:$H$45) | M18: =IFERROR(J18/I18,0) | N18: =IFERROR(L18/K18,0)
B19: =Paramètres!E19 | C19: =Objectifs!H17 | D19: =SUMIF(Saisie!$B$6:$B$45,B19,Saisie!$I$6:$I$45) | E19: =D19-C19 | F19: =IFERROR(D19/C19,0) | G19: =SUM(C$8:C19) | H19: =SUM(D$8:D19) | I19: =SUMIF(Saisie!$B$6:$B$45,B19,Saisie!$D$6:$D$45) | J19: =SUMIF(Saisie!$B$6:$B$45,B19,Saisie!$E$6:$E$45) | K19: =SUMIF(Saisie!$B$6:$B$45,B19,Saisie!$F$6:$F$45) | L19: =SUMIF(Saisie!$B$6:$B$45,B19,Saisie!$H$6:$H$45) | M19: =IFERROR(J19/I19,0) | N19: =IFERROR(L19/K19,0)
B20: Total | C20: =SUM(C8:C19) | D20: =SUM(D8:D19) | E20: =SUM(E8:E19) | F20: =IFERROR(D20/C20,0) | I20: =SUM(I8:I19) | J20: =SUM(J8:J19) | K20: =SUM(K8:K19) | L20: =SUM(L8:L19) | M20: =IFERROR(J20/I20,0) | N20: =IFERROR(L20/K20,0)
B22: Commercial | C22: Objectif HT | D22: CA signé HT | E22: Écart | F22: Atteinte | G22: Panier moyen | H22: Montant devis | I22: Contacts | J22: RDV | K22: Devis | L22: Ventes | M22: Contact → RDV | N22: Devis → vente
B23: =IF(Paramètres!B8="","",Paramètres!B8) | C23: =IF(B23="",0,Objectifs!C18) | D23: =SUMIF(Saisie!$C$6:$C$45,B23,Saisie!$I$6:$I$45) | E23: =D23-C23 | F23: =IFERROR(D23/C23,0) | G23: =IFERROR(D23/L23,0) | H23: =SUMIF(Saisie!$C$6:$C$45,B23,Saisie!$G$6:$G$45) | I23: =SUMIF(Saisie!$C$6:$C$45,B23,Saisie!$D$6:$D$45) | J23: =SUMIF(Saisie!$C$6:$C$45,B23,Saisie!$E$6:$E$45) | K23: =SUMIF(Saisie!$C$6:$C$45,B23,Saisie!$F$6:$F$45) | L23: =SUMIF(Saisie!$C$6:$C$45,B23,Saisie!$H$6:$H$45) | M23: =IFERROR(J23/I23,0) | N23: =IFERROR(L23/K23,0)
B24: =IF(Paramètres!B9="","",Paramètres!B9) | C24: =IF(B24="",0,Objectifs!D18) | D24: =SUMIF(Saisie!$C$6:$C$45,B24,Saisie!$I$6:$I$45) | E24: =D24-C24 | F24: =IFERROR(D24/C24,0) | G24: =IFERROR(D24/L24,0) | H24: =SUMIF(Saisie!$C$6:$C$45,B24,Saisie!$G$6:$G$45) | I24: =SUMIF(Saisie!$C$6:$C$45,B24,Saisie!$D$6:$D$45) | J24: =SUMIF(Saisie!$C$6:$C$45,B24,Saisie!$E$6:$E$45) | K24: =SUMIF(Saisie!$C$6:$C$45,B24,Saisie!$F$6:$F$45) | L24: =SUMIF(Saisie!$C$6:$C$45,B24,Saisie!$H$6:$H$45) | M24: =IFERROR(J24/I24,0) | N24: =IFERROR(L24/K24,0)
B25: =IF(Paramètres!B10="","",Paramètres!B10) | C25: =IF(B25="",0,Objectifs!E18) | D25: =SUMIF(Saisie!$C$6:$C$45,B25,Saisie!$I$6:$I$45) | E25: =D25-C25 | F25: =IFERROR(D25/C25,0) | G25: =IFERROR(D25/L25,0) | H25: =SUMIF(Saisie!$C$6:$C$45,B25,Saisie!$G$6:$G$45) | I25: =SUMIF(Saisie!$C$6:$C$45,B25,Saisie!$D$6:$D$45) | J25: =SUMIF(Saisie!$C$6:$C$45,B25,Saisie!$E$6:$E$45) | K25: =SUMIF(Saisie!$C$6:$C$45,B25,Saisie!$F$6:$F$45) | L25: =SUMIF(Saisie!$C$6:$C$45,B25,Saisie!$H$6:$H$45) | M25: =IFERROR(J25/I25,0) | N25: =IFERROR(L25/K25,0)
B26: =IF(Paramètres!B11="","",Paramètres!B11) | C26: =IF(B26="",0,Objectifs!F18) | D26: =SUMIF(Saisie!$C$6:$C$45,B26,Saisie!$I$6:$I$45) | E26: =D26-C26 | F26: =IFERROR(D26/C26,0) | G26: =IFERROR(D26/L26,0) | H26: =SUMIF(Saisie!$C$6:$C$45,B26,Saisie!$G$6:$G$45) | I26: =SUMIF(Saisie!$C$6:$C$45,B26,Saisie!$D$6:$D$45) | J26: =SUMIF(Saisie!$C$6:$C$45,B26,Saisie!$E$6:$E$45) | K26: =SUMIF(Saisie!$C$6:$C$45,B26,Saisie!$F$6:$F$45) | L26: =SUMIF(Saisie!$C$6:$C$45,B26,Saisie!$H$6:$H$45) | M26: =IFERROR(J26/I26,0) | N26: =IFERROR(L26/K26,0)
B27: =IF(Paramètres!B12="","",Paramètres!B12) | C27: =IF(B27="",0,Objectifs!G18) | D27: =SUMIF(Saisie!$C$6:$C$45,B27,Saisie!$I$6:$I$45) | E27: =D27-C27 | F27: =IFERROR(D27/C27,0) | G27: =IFERROR(D27/L27,0) | H27: =SUMIF(Saisie!$C$6:$C$45,B27,Saisie!$G$6:$G$45) | I27: =SUMIF(Saisie!$C$6:$C$45,B27,Saisie!$D$6:$D$45) | J27: =SUMIF(Saisie!$C$6:$C$45,B27,Saisie!$E$6:$E$45) | K27: =SUMIF(Saisie!$C$6:$C$45,B27,Saisie!$F$6:$F$45) | L27: =SUMIF(Saisie!$C$6:$C$45,B27,Saisie!$H$6:$H$45) | M27: =IFERROR(J27/I27,0) | N27: =IFERROR(L27/K27,0)

Sheet Paramètres
B2: Paramètres du suivi commercial
B4: Votre entreprise | C4: Atelier Numérique
B5: Année suivie | C5: 2026
B7: Commerciaux (5 au plus) | E7: Mois
B8: Julie | E8: Janvier
B9: Karim | E9: Février
B10: Thomas | E10: Mars
E11: Avril
E12: Mai
E13: Juin
E14: Juillet
E15: Août
E16: Septembre
E17: Octobre
E18: Novembre
E19: Décembre

Sheet Objectifs
B2: Objectifs de chiffre d'affaires HT
B3: Saisissez un objectif par commercial et par mois. Les totaux se calculent.
B5: Mois | C5: =IF(Paramètres!B8="","",Paramètres!B8) | D5: =IF(Paramètres!B9="","",Paramètres!B9) | E5: =IF(Paramètres!B10="","",Paramètres!B10) | F5: =IF(Paramètres!B11="","",Paramètres!B11) | G5: =IF(Paramètres!B12="","",Paramètres!B12) | H5: Total
B6: =Paramètres!E8 | C6: 8000 | D6: 6000 | E6: 6000 | H6: =SUM(C6:G6)
B7: =Paramètres!E9 | C7: 8000 | D7: 6000 | E7: 6000 | H7: =SUM(C7:G7)
B8: =Paramètres!E10 | C8: 8000 | D8: 6000 | E8: 6000 | H8: =SUM(C8:G8)
B9: =Paramètres!E11 | C9: 8000 | D9: 6000 | E9: 6000 | H9: =SUM(C9:G9)
B10: =Paramètres!E12 | C10: 8000 | D10: 6000 | E10: 6000 | H10: =SUM(C10:G10)
B11: =Paramètres!E13 | C11: 8000 | D11: 6000 | E11: 6000 | H11: =SUM(C11:G11)
B12: =Paramètres!E14 | C12: 8000 | D12: 6000 | E12: 6000 | H12: =SUM(C12:G12)
B13: =Paramètres!E15 | C13: 8000 | D13: 6000 | E13: 6000 | H13: =SUM(C13:G13)
B14: =Paramètres!E16 | C14: 8000 | D14: 6000 | E14: 6000 | H14: =SUM(C14:G14)
B15: =Paramètres!E17 | C15: 8000 | D15: 6000 | E15: 6000 | H15: =SUM(C15:G15)
B16: =Paramètres!E18 | C16: 8000 | D16: 6000 | E16: 6000 | H16: =SUM(C16:G16)
B17: =Paramètres!E19 | C17: 8000 | D17: 6000 | E17: 6000 | H17: =SUM(C17:G17)
B18: Année | C18: =SUM(C6:C17) | D18: =SUM(D6:D17) | E18: =SUM(E6:E17) | F18: =SUM(F6:F17) | G18: =SUM(G6:G17) | H18: =SUM(H6:H17)

Sheet Saisie
B2: Saisie de l'activité
B3: Une ligne par commercial et par mois. Les taux se calculent sur la ligne.
B5: Mois | C5: Commercial | D5: Contacts | E5: Rendez-vous | F5: Devis envoyés | G5: Montant devis HT | H5: Ventes | I5: CA signé HT | J5: Contact → RDV | K5: Devis → vente
B6: Janvier | C6: Julie | D6: 42 | E6: 9 | F6: 6 | G6: 14200 | H6: 3 | I6: 7400 | J6: =IF(N(D6)=0,"",E6/D6) | K6: =IF(N(F6)=0,"",H6/F6)
B7: Janvier | C7: Karim | D7: 35 | E7: 6 | F7: 4 | G7: 9200 | H7: 2 | I7: 4800 | J7: =IF(N(D7)=0,"",E7/D7) | K7: =IF(N(F7)=0,"",H7/F7)
B8: Janvier | C8: Thomas | D8: 30 | E8: 5 | F8: 3 | G8: 8100 | H8: 1 | I8: 3900 | J8: =IF(N(D8)=0,"",E8/D8) | K8: =IF(N(F8)=0,"",H8/F8)
B9: Février | C9: Julie | D9: 38 | E9: 8 | F9: 5 | G9: 12500 | H9: 3 | I9: 8100 | J9: =IF(N(D9)=0,"",E9/D9) | K9: =IF(N(F9)=0,"",H9/F9)
B10: Février | C10: Karim | D10: 33 | E10: 7 | F10: 5 | G10: 11000 | H10: 2 | I10: 5600 | J10: =IF(N(D10)=0,"",E10/D10) | K10: =IF(N(F10)=0,"",H10/F10)
B11: Février | C11: Thomas | D11: 34 | E11: 6 | F11: 4 | G11: 10300 | H11: 2 | I11: 5400 | J11: =IF(N(D11)=0,"",E11/D11) | K11: =IF(N(F11)=0,"",H11/F11)
B12: Mars | C12: Julie | D12: 45 | E12: 11 | F12: 7 | G12: 17800 | H12: 4 | I12: 9900 | J12: =IF(N(D12)=0,"",E12/D12) | K12: =IF(N(F12)=0,"",H12/F12)
B13: Mars | C13: Karim | D13: 38 | E13: 8 | F13: 5 | G13: 12400 | H13: 3 | I13: 6900 | J13: =IF(N(D13)=0,"",E13/D13) | K13: =IF(N(F13)=0,"",H13/F13)
B14: Mars | C14: Thomas | D14: 36 | E14: 8 | F14: 5 | G14: 13000 | H14: 3 | I14: 6800 | J14: =IF(N(D14)=0,"",E14/D14) | K14: =IF(N(F14)=0,"",H14/F14)
B15: Avril | C15: Julie | D15: 40 | E15: 9 | F15: 6 | G15: 15000 | H15: 3 | I15: 7200 | J15: =IF(N(D15)=0,"",E15/D15) | K15: =IF(N(F15)=0,"",H15/F15)
B16: Avril | C16: Karim | D16: 36 | E16: 7 | F16: 4 | G16: 10100 | H16: 2 | I16: 5200 | J16: =IF(N(D16)=0,"",E16/D16) | K16: =IF(N(F16)=0,"",H16/F16)
B17: Avril | C17: Thomas | D17: 39 | E17: 9 | F17: 6 | G17: 14800 | H17: 3 | I17: 7700 | J17: =IF(N(D17)=0,"",E17/D17) | K17: =IF(N(F17)=0,"",H17/F17)
... B32: Septembre | C32: Thomas | D32: 40 | E32: 9 | F32: 6 | G32: 15600 | H32: 3 | I32: 7900 | J32: =IF(N(D32)=0,"",E32/D32) | K32: =IF(N(F32)=0,"",H32/F32)
J33: =IF(N(D33)=0,"",E33/D33) | K33: =IF(N(F33)=0,"",H33/F33)
J34: =IF(N(D34)=0,"",E34/D34) | K34: =IF(N(F34)=0,"",H34/F34)
J35: =IF(N(D35)=0,"",E35/D35) | K35: =IF(N(F35)=0,"",H35/F35)
J36: =IF(N(D36)=0,"",E36/D36) | K36: =IF(N(F36)=0,"",H36/F36)
J37: =IF(N(D37)=0,"",E37/D37) | K37: =IF(N(F37)=0,"",H37/F37)
J38: =IF(N(D38)=0,"",E38/D38) | K38: =IF(N(F38)=0,"",H38/F38)
J39: =IF(N(D39)=0,"",E39/D39) | K39: =IF(N(F39)=0,"",H39/F39)
J40: =IF(N(D40)=0,"",E40/D40) | K40: =IF(N(F40)=0,"",H40/F40)
J41: =IF(N(D41)=0,"",E41/D41) | K41: =IF(N(F41)=0,"",H41/F41)
J42: =IF(N(D42)=0,"",E42/D42) | K42: =IF(N(F42)=0,"",H42/F42)
J43: =IF(N(D43)=0,"",E43/D43) | K43: =IF(N(F43)=0,"",H43/F43)
J44: =IF(N(D44)=0,"",E44/D44) | K44: =IF(N(F44)=0,"",H44/F44)
J45: =IF(N(D45)=0,"",E45/D45) | K45: =IF(N(F45)=0,"",H45/F45)

Sheet Mode d'emploi
B2: Mode d'emploi du suivi commercial
B4: 1. Paramètres
B5: Saisissez votre entreprise, l'année suivie et les prénoms de vos commerciaux (cinq au plus). Seul ? Mettez votre prénom : le modèle fonctionne aussi pour un indépendant.
B7: 2. Objectifs
B8: Dans « Objectifs », fixez un objectif de chiffre d'affaires hors taxes par commercial et par mois. Tenez compte de la saisonnalité : un objectif identique en août et en septembre n'a pas de sens pour la plupart des métiers.
B10: 3. Saisie
B11: Chaque début de mois, ajoutez une ligne par commercial pour le mois écoulé : contacts, rendez-vous, devis envoyés et leur montant, ventes signées et chiffre d'affaires signé. Choisissez le mois et le commercial dans les menus. Effacez les exemples avant de commencer.
B13: 4. Synthèse
B14: La feuille « Synthèse » compare objectif et réalisé mois par mois, calcule les cumuls, les taux de transformation (contact vers rendez-vous, devis vers vente) et le panier moyen par commercial. Le graphique se met à jour seul.
B16: 5. Lecture
B17: Un écart négatif s'affiche en rouge. Cherchez sa cause dans l'activité : pas assez de contacts, trop peu de rendez-vous, ou des devis qui ne se signent pas. Chaque cas appelle une action différente.
B19: Pour aller plus loin
B20: Ce modèle est proposé gratuitement par Digitiz : https://digitiz.fr/modeles/suivi-commercial/ . Pour suivre chaque affaire une à une : https://digitiz.fr/modeles/crm/
